BEGIN:VCALENDAR
VERSION:2.0
PRODID:-//National Training Center - ECPv6.15.17//NONSGML v1.0//EN
CALSCALE:GREGORIAN
METHOD:PUBLISH
X-ORIGINAL-URL:https://trainingcaw.org
X-WR-CALDESC:Events for National Training Center
REFRESH-INTERVAL;VALUE=DURATION:PT1H
X-Robots-Tag:noindex
X-PUBLISHED-TTL:PT1H
BEGIN:VTIMEZONE
TZID:UTC
BEGIN:STANDARD
TZOFFSETFROM:+0000
TZOFFSETTO:+0000
TZNAME:UTC
DTSTART:20240101T000000
END:STANDARD
END:VTIMEZONE
BEGIN:VEVENT
DTSTART;TZID=UTC:20250925T113000
DTEND;TZID=UTC:20250925T130000
DTSTAMP:20260422T090342
CREATED:20250820T174303Z
LAST-MODIFIED:20250820T174303Z
UID:10000072-1758799800-1758805200@trainingcaw.org
SUMMARY:Genesis Lunch & Learn:
DESCRIPTION:  \nBring your lunch & join us every 4th Thursday \nDescription: Pending\n \nSpeakers: Pending \n  \nCEUs: 1.5 for LPC\, SW\, LMFT \nLOCATION:\nGenesis Women’s Shelter & Support\nNational Training Center\n2023 Lucas Drive\, Dallas\, TX 75219\nOr join us for the simultaneous webinar on Zoom \nRegister Here\n 
URL:https://trainingcaw.org/event/genesis-lunch-learn/
LOCATION:Webinar
CATEGORIES:Genesis Event
END:VEVENT
BEGIN:VEVENT
DTSTART;TZID=UTC:20251016T090000
DTEND;TZID=UTC:20251016T150000
DTSTAMP:20260422T090342
CREATED:20250820T213247Z
LAST-MODIFIED:20251008T193319Z
UID:10000075-1760605200-1760626800@trainingcaw.org
SUMMARY:Advanced Motivational Interviewing
DESCRIPTION:  \nDescription: \n\nNot sure if you’re ready for the advanced level? If you are already familiar with the concept of ambivalence\, change talk\, sustain talk\, and the OARS acronym\, you may be ready to step into the advanced level. And if you’re feeling like you just need a quick refresher of those beginner-level concepts\, here are some videos that can help. \n\n\nhttps://youtu.be/qsdkQSxguo0?si=UKAgO1YvXWZmwfjG\nhttps://youtu.be/eFZhIjfeoqw?si=4FIgDpoThT8dxLKF\nhttps://youtu.be/DhQyApWyw5s?si=HdZG7-xW4d_S3EeU\nhttps://youtu.be/txbE-cpeLic?si=W1wUHk9Q8A0BDq2z\nhttps://youtu.be/Pj8XSnnoVkU?si=XWKOCZl-8Kdc1nvE \n\nSpeaker: \nDr. Kate Watson\, M.A.\, Ed.M.\, Dr.PH\nPresident and Founder\nThe Advocacy Academy \nREGISTER HERE
URL:https://trainingcaw.org/event/advanced-motivational-interviewing/
LOCATION:Webinar
CATEGORIES:Training
END:VEVENT
BEGIN:VEVENT
DTSTART;TZID=UTC:20251023T113000
DTEND;TZID=UTC:20251023T130000
DTSTAMP:20260422T090342
CREATED:20250820T174415Z
LAST-MODIFIED:20251008T200054Z
UID:10000073-1761219000-1761224400@trainingcaw.org
SUMMARY:Genesis Lunch & Learn: Diagnosing Domestic Violence: How do you know she's telling the truth? What are her symptoms telling you?
DESCRIPTION:  \nBring your lunch & join us every 4th Thursday \nDescription: Defense attorneys often accuse victim advocates of believing everyone who says they experienced domestic abuse. Additionally\, victims often receive misdiagnoses that negatively impact their court case or treatment options. This workshop will present trauma-informed screening questions and assessment skills to better equip service providers during initial evaluations to recognize intimate partner violence. Typical trauma symptoms will be looked at as they relate to various mental health diagnoses that victims often receive\, including Post Traumatic Stress Disorder. Attendees will learn how to explain maladaptive coping mechanisms in the context of trauma. And the presenter will discuss appropriate treatment goals to address danger and the effects of domestic violence. Using case scenarios\, attendees will practice how to verbalize why they believe the victim and what services are indicated based on the initial evaluation. \nSpeaker: Ruth Guerreiro\, LCSW-S\nChief Clinical Officer\nGenesis Women’s Shelter & Support \nCEUs: 1.5 for LPC\, SW\, LMFT \nLOCATION:\nGenesis Women’s Shelter & Support\nNational Training Center\n2023 Lucas Drive\, Dallas\, TX 75219 \nNo RSVP needed for in-person attendance\nOr join us for the simultaneous webinar\non Zoom by registering HERE \nIf you can’t join us for the live event\, you can contact training@genesisshelter.org after 10/23/25 to receive a copy of the recording.\nHowever\, only live attendees will receive the CEU. \n  \n  \n  \n 
URL:https://trainingcaw.org/event/genesis-lunch-learn-2/
LOCATION:Webinar
CATEGORIES:Genesis Event
END:VEVENT
BEGIN:VEVENT
DTSTART;TZID=UTC:20251029T093000
DTEND;TZID=UTC:20251029T153000
DTSTAMP:20260422T090342
CREATED:20250820T220056Z
LAST-MODIFIED:20251008T195327Z
UID:10000078-1761730200-1761751800@trainingcaw.org
SUMMARY:Breaking the Silence: Financial Abuse and the Path to Empowerment
DESCRIPTION:  \nDescription: Studies show that financial abuse happens in 94-99% of abusive intimate partner relationships\, yet it is the least understood form of abuse. Part One of this workshop will identify the numerous tactics that fall into various categories of financial abuse including coerced debt and financial fraud. The presenters will discuss the many ways financial abuse impacts a woman while she is in the abusive relationship as well as the long-lasting effects it can have after leaving the abusive relationship. The presenters will also explore ways advocates\, attorneys\, and other professionals can help support a survivor of financial abuse. In Part Two\, presenters will discuss program models and case management interventions to support survivors in recovering from the impact of financial abuse. The day will close with experiential learning through scenario exploration. \nSpeakers: \nJordyn Lawson\nChief Residential Officer\nGenesis Women’s Shelter & Support \nRuth Guerreiro\nChief Clinical Officer\nGenesis Women’s Shelter& Support \nREGISTER HERE
URL:https://trainingcaw.org/event/economic-justice-symposium/
LOCATION:National Training Center\, 2023 Lucas Drive\, Dallas\, Texas\, 75219\, United States
CATEGORIES:Training
END:VEVENT
BEGIN:VEVENT
DTSTART;TZID=UTC:20251104T123000
DTEND;TZID=UTC:20251104T153000
DTSTAMP:20260422T090342
CREATED:20251008T200820Z
LAST-MODIFIED:20251015T195410Z
UID:10000080-1762259400-1762270200@trainingcaw.org
SUMMARY:The Ethical Advocate 101
DESCRIPTION:  \nDescription: This course goes beyond teaching ethical principles—it is designed to shape the ethical advocate: someone whose actions consistently reflect both cultural identity and professional values. Participants will examine how their personal and cultural values influence ethical decision-making. Along the way\, they will strengthen their resilience by learning to tolerate mistakes\, distress\, and setbacks\, and they will gain practical tools for approaching ethical dilemmas with clarity\, confidence\, and integrity. \nSpeaker: Kate Watson\nPresident and Founder\nThe Advocacy Academy \nREGISTER HERE
URL:https://trainingcaw.org/event/the-ethical-advocate/
LOCATION:Webinar
CATEGORIES:Training
END:VEVENT
BEGIN:VEVENT
DTSTART;TZID=UTC:20251105T110000
DTEND;TZID=UTC:20251105T130000
DTSTAMP:20260422T090342
CREATED:20251008T201513Z
LAST-MODIFIED:20251015T195246Z
UID:10000081-1762340400-1762347600@trainingcaw.org
SUMMARY:Trauma & Violence Informed Care for HT Survivors: Insights for LE and Related Professions
DESCRIPTION:  \nDescription: This workshop introduces law enforcement and affiliated professionals to the core principles of Trauma- and Violence-Informed Care (TVIC). Participants will explore current literature to distinguish between emerging guidelines and promising practices for working with human trafficking survivors. They will also learn how to apply TVIC strategies in setting-specific contexts to improve survivor engagement and outcomes. \nSpeaker: Mary Twis\, PhD\, LMSW-AP\nAssociate Professor of Social Work\nTexas Christian University \nREGISTER HERE
URL:https://trainingcaw.org/event/trauma-violence-informed-care-for-ht-survivors-insights-for-le-and-related-professions/
LOCATION:Webinar
CATEGORIES:Training
END:VEVENT
BEGIN:VEVENT
DTSTART;TZID=UTC:20251112T120000
DTEND;TZID=UTC:20251112T130000
DTSTAMP:20260422T090342
CREATED:20250204T181339Z
LAST-MODIFIED:20250204T181339Z
UID:10000055-1762948800-1762952400@trainingcaw.org
SUMMARY:Genesis Lecture Series Part 4: What Role Can You Play?
DESCRIPTION:  \n#4DECADES4YOU \nDescription: Hear from a female faith leader\, city leaders\, a survivor and our Conference on Crimes Against Women as we discuss how we all have a critical role to play in ending violence against women. No matter who you are\, where you live or where you work\, we can all create safe spaces for the 1 in 3 women in our lives who will experience domestic violence. Learn how! \nCheck in: 11:45 a.m.     |     Lecture Begins: 12:00 p.m.     |     Ends promptly: 1:00 p.m. \nLunch will be served. \nSponsorship & Tickets\n  \n 
URL:https://trainingcaw.org/event/genesis-lecture-series-part-4-what-role-can-you-play/
LOCATION:Genesis at Lucas\, 2023 Lucas Drive\, Dallas\, TX\, 75219\, United States
CATEGORIES:Genesis Event
END:VEVENT
BEGIN:VEVENT
DTSTART;TZID=UTC:20251113T133000
DTEND;TZID=UTC:20251113T150000
DTSTAMP:20260422T090342
CREATED:20251008T201823Z
LAST-MODIFIED:20251008T201823Z
UID:10000082-1763040600-1763046000@trainingcaw.org
SUMMARY:AI and Mental Health: Supporting Survivors in the Age of AI
DESCRIPTION:  \nDescription: Given the unmet demand for licensed mental health care\, AI companies are rushing to fill this gap with therapy apps\, AI companions\, and general-purpose chatbots like ChatGPT. They are marketed as effective\, available 24/7\, affordable\, and nonjudgmental. While these tools are rapidly gaining traction\, they exist in a largely unregulated and often misunderstood landscape\, creating confusion and risks about their true capabilities and limitations. \nThis session will highlight why AI literacy is now essential for victim service professionals when it comes to mental health. We’ll discuss how to help survivors make informed decisions about AI therapy tools\, how to talk about AI and mental health without stigma or shame\, and how to build a supportive environment that prioritizes safety and well-being in the digital age. Participants will walk away with practical strategies to guide conversations\, connect survivors to trusted resources\, and foster a culture of clarity and care as AI becomes part of the mental health landscape. \nSpeaker: Adam Dodge\nFounder & CEO\nEndTAB \nREGISTER HERE
URL:https://trainingcaw.org/event/ai-and-mental-health-supporting-survivors-in-the-age-of-ai/
LOCATION:Webinar
CATEGORIES:Training
END:VEVENT
BEGIN:VEVENT
DTSTART;TZID=UTC:20251120T083000
DTEND;TZID=UTC:20251120T163000
DTSTAMP:20260422T090342
CREATED:20250820T222736Z
LAST-MODIFIED:20251008T203621Z
UID:10000079-1763627400-1763656200@trainingcaw.org
SUMMARY:Today’s Leadership Challenges and Changes: Responding to Domestic and Sexual Violence in the Law Enforcement Family
DESCRIPTION:Description:  \nOfficer perpetrated domestic and sexual violence poses unique dangers\, threatens agency mission and morale\, generates high civil liability risk\, and impacts public confidence in law enforcement. \nThis day-long course is an opportunity for law enforcement executives to examine the historical view and culture of domestic and sexual violence within the law enforcement family and will enable leaders to evaluate agency internal strengths\, improve the effectiveness of investigations\, offer nationally established standards for recruiting\, training\, corrective discipline\, and the continued need for implementation of policy. \nSpeakers:\nMark Wynn\nLieutenant (ret.)\nMark Wynn Consulting \nDottie Davis\nDeputy Chief (ret)\nDavis Corporate Training\, Inc. \nREGISTER HERE
URL:https://trainingcaw.org/event/responding-to-dv-law-enforcement-family/
LOCATION:National Training Center\, 2023 Lucas Drive\, Dallas\, Texas\, 75219\, United States
CATEGORIES:Training
END:VEVENT
BEGIN:VEVENT
DTSTART;TZID=UTC:20251209T093000
DTEND;TZID=UTC:20251209T150000
DTSTAMP:20260422T090342
CREATED:20251112T161923Z
LAST-MODIFIED:20251124T183612Z
UID:10000083-1765272600-1765292400@trainingcaw.org
SUMMARY:DV Prevention & Intervention: Collaboration Between Community Partners & Faith Leaders
DESCRIPTION:Unfortunately\, due to circumstances beyond our control\, we must postpone this training until next year. We hope you will join us then and apologize for any inconvenience this may cause.
URL:https://trainingcaw.org/event/dv-prevention-intervention-collaboration-between-community-partners-faith-leaders/
LOCATION:National Training Center\, 2023 Lucas Drive\, Dallas\, Texas\, 75219\, United States
CATEGORIES:Training
END:VEVENT
END:VCALENDAR